BEGIN:VCALENDAR
VERSION:2.0
PRODID:-//Autism Society San Francisco Bay Area - ECPv6.15.16.1//NONSGML v1.0//EN
CALSCALE:GREGORIAN
METHOD:PUBLISH
X-ORIGINAL-URL:https://sfautismsociety.org
X-WR-CALDESC:Events for Autism Society San Francisco Bay Area
REFRESH-INTERVAL;VALUE=DURATION:PT1H
X-Robots-Tag:noindex
X-PUBLISHED-TTL:PT1H
BEGIN:VTIMEZONE
TZID:America/Los_Angeles
BEGIN:DAYLIGHT
TZOFFSETFROM:-0800
TZOFFSETTO:-0700
TZNAME:PDT
DTSTART:20250309T100000
END:DAYLIGHT
BEGIN:STANDARD
TZOFFSETFROM:-0700
TZOFFSETTO:-0800
TZNAME:PST
DTSTART:20251102T090000
END:STANDARD
BEGIN:DAYLIGHT
TZOFFSETFROM:-0800
TZOFFSETTO:-0700
TZNAME:PDT
DTSTART:20260308T100000
END:DAYLIGHT
BEGIN:STANDARD
TZOFFSETFROM:-0700
TZOFFSETTO:-0800
TZNAME:PST
DTSTART:20261101T090000
END:STANDARD
BEGIN:DAYLIGHT
TZOFFSETFROM:-0800
TZOFFSETTO:-0700
TZNAME:PDT
DTSTART:20270314T100000
END:DAYLIGHT
BEGIN:STANDARD
TZOFFSETFROM:-0700
TZOFFSETTO:-0800
TZNAME:PST
DTSTART:20271107T090000
END:STANDARD
END:VTIMEZONE
BEGIN:VEVENT
DTSTART;TZID=America/Los_Angeles:20260419T100000
DTEND;TZID=America/Los_Angeles:20260419T120000
DTSTAMP:20260424T161441
CREATED:20260227T192449Z
LAST-MODIFIED:20260228T052547Z
UID:10002295-1776592800-1776600000@sfautismsociety.org
SUMMARY:Walk/Scavenger April 19th
DESCRIPTION:Autism Walk and Scavenger Hunt in Danville  \nWhen: April 19\, 2026\, 10 AM to 12 PM\nWhere: Oak Hill Park in Danville\nWhat: You are invited! Celebrate Autism Acceptance with us! We’re hosting our 3rd Annual walk and scavenger hunt. All ages! We’ll have a sensory-friendly space\, games by Roll for\nInclusion and plenty of activities as we celebrate the vibrant\, inclusive community we build together. This location has a playground\, pond with a walking path (where the scavenger hunt and walk will take place)\, indoor space for light food and drinks. Games in a low stimulation environment\, craft activities and sensory toys.This is a great opportunity to meet other autism families and friends. See you at the park! \nRegistration: Sliding scale of $0-10 per person. \n\nClick Here To Register!
URL:https://sfautismsociety.org/event/walk-scavenger-april-19th/
LOCATION:Oakhill Park in Danville\, 3005 Stone Valley Rd\, Danville\, CA\, 94506\, United States
CATEGORIES:Adult,Children,Families,Outdoors,SFASA,Sports & Athletics,Teen,Walk,Youth
ATTACH;FMTTYPE=image/png:https://sfautismsociety.org/wp-content/uploads/2023/11/Saturday-March-28-5.png
ORGANIZER;CN="Autism Society San Francisco Bay Area":MAILTO:info@sfautismsociety.org
END:VEVENT
BEGIN:VEVENT
DTSTART;TZID=America/Los_Angeles:20260407T190000
DTEND;TZID=America/Los_Angeles:20260407T220000
DTSTAMP:20260424T161441
CREATED:20260320T201201Z
LAST-MODIFIED:20260320T201205Z
UID:10002316-1775588400-1775599200@sfautismsociety.org
SUMMARY:Golden State Warriors vs. Sacramento Kings
DESCRIPTION:Back by popular demand!!!!! \nWe do finally have an Autism Society San Francisco Bay Area — Pettinelli Financial Partners Night at the Chase Center! \nAs I am one of the many gigantic Dubs SFASA fans\, I really hope we can make this night just as fun as last year! \nThis year\, families will purchase tickets directly through the link below\, but we will all be in two sections where we can cheer together and bond! \nThis is the second-to-last home game — let’s represent — we just need to get a group of 75\, and we will have the pre-game shoot around at no extra cost – I know we can do it. I have the special add-on reserved already! \nCome join us to see Demar DeRozan of the Kings battle the Dubs and hopefully Steph will be back! \nGame info: \nOur Golden State Warriors vs. Sacramento Kings\, Tuesday evening\, April 7th\, 7pm tipoff \nTickets are in Section 222 Upper Level facing the Warriors bench – please use this link and purchase as soon as you can. \nEmail me – leslie@sfautismsociety.org with any questions or concerns. \nSee you on the 7th!!!! \nClick HERE to Get your TICKET! 
URL:https://sfautismsociety.org/event/golden-state-warriors-vs-sacramento-kings/
LOCATION:Chase Center\, 1 Warriors Way\, San Francisco\, CA\, 94158\, United States
CATEGORIES:Sports & Athletics
ATTACH;FMTTYPE=image/jpeg:https://sfautismsociety.org/wp-content/uploads/2026/03/images.jpeg
ORGANIZER;CN="Autism Society San Francisco Bay Area":MAILTO:info@sfautismsociety.org
END:VEVENT
BEGIN:VEVENT
DTSTART;TZID=America/Los_Angeles:20260405T160000
DTEND;TZID=America/Los_Angeles:20260405T173000
DTSTAMP:20260424T161441
CREATED:20260227T000027Z
LAST-MODIFIED:20260326T173053Z
UID:10002291-1775404800-1775410200@sfautismsociety.org
SUMMARY:Bunny Jump!
DESCRIPTION:When: Sunday\, April 5\, 2026\, 4-5.30pm\, 3.30pm arrival for registration \nWhere: House of Air\, 926 Old Mason Street\, SF\n\nWhat: Celebrate Easter with SFASA by jumping with us at the House of Air trampoline park\, Crissy Field\, SF. We are renting the entire place!\n\nCost: Sliding scale $15 (subsidized) – $30 (actual cost) per ticket\, includes socks\, max 4 tickets per family. Register by April 1. \n\nQuestions? Please email the Events Chair here\n\nClick Here To Register!
URL:https://sfautismsociety.org/event/bunny-jump/
LOCATION:House of Air – San Francisco\, 926 Mason Street\, San Francisco\, CA\, 94129\, United States
CATEGORIES:Babies & Young Children,Children,Families,Sports & Athletics,Youth
ATTACH;FMTTYPE=image/png:https://sfautismsociety.org/wp-content/uploads/2023/11/Saturday-March-28-300-500pm-4.png
ORGANIZER;CN="Autism Society San Francisco Bay Area":MAILTO:info@sfautismsociety.org
END:VEVENT
END:VCALENDAR